BEGIN:VCALENDAR
VERSION:2.0
PRODID:-//Milwaukee Scottish Country Dancers - ECPv6.15.18//NONSGML v1.0//EN
CALSCALE:GREGORIAN
METHOD:PUBLISH
X-ORIGINAL-URL:https://milwaukeescd.org
X-WR-CALDESC:Events for Milwaukee Scottish Country Dancers
REFRESH-INTERVAL;VALUE=DURATION:PT1H
X-Robots-Tag:noindex
X-PUBLISHED-TTL:PT1H
BEGIN:VTIMEZONE
TZID:America/Chicago
BEGIN:DAYLIGHT
TZOFFSETFROM:-0600
TZOFFSETTO:-0500
TZNAME:CDT
DTSTART:20230312T080000
END:DAYLIGHT
BEGIN:STANDARD
TZOFFSETFROM:-0500
TZOFFSETTO:-0600
TZNAME:CST
DTSTART:20231105T070000
END:STANDARD
BEGIN:DAYLIGHT
TZOFFSETFROM:-0600
TZOFFSETTO:-0500
TZNAME:CDT
DTSTART:20240310T080000
END:DAYLIGHT
BEGIN:STANDARD
TZOFFSETFROM:-0500
TZOFFSETTO:-0600
TZNAME:CST
DTSTART:20241103T070000
END:STANDARD
BEGIN:DAYLIGHT
TZOFFSETFROM:-0600
TZOFFSETTO:-0500
TZNAME:CDT
DTSTART:20250309T080000
END:DAYLIGHT
BEGIN:STANDARD
TZOFFSETFROM:-0500
TZOFFSETTO:-0600
TZNAME:CST
DTSTART:20251102T070000
END:STANDARD
END:VTIMEZONE
BEGIN:VEVENT
DTSTART;TZID=America/Chicago:20240909T130000
DTEND;TZID=America/Chicago:20240909T150000
DTSTAMP:20260421T063925
CREATED:20240826T193618Z
LAST-MODIFIED:20240909T051428Z
UID:172-1725886800-1725894000@milwaukeescd.org
SUMMARY:Milwaukee Scottish Country Dancers Open House
DESCRIPTION:Do you want to try Scottish Country Dancing\, but don’t know where to start? Well\, you’re in luck! We are hosting an open house to encourage new people to try Scottish Dancing for the first time. \nWe will start by demonstrating dances\, then invite you to join in! \nNo pre-registration is required\, but we suggest bringing soft-soled shoes for dancing. Refreshments will be provided!
URL:https://milwaukeescd.org/event/mke-open-house/
LOCATION:Journey’s Lutheran School Gym\, 5425 S 111th St 53130\, Hales Corners\, WI\, 53130\, United States
ATTACH;FMTTYPE=image/jpeg:https://milwaukeescd.org/wp-content/uploads/2024/08/Dancy-2.jpg
END:VEVENT
END:VCALENDAR