BEGIN:VCALENDAR
VERSION:2.0
PRODID:-//Milwaukee Scottish Country Dancers - ECPv6.15.18//NONSGML v1.0//EN
CALSCALE:GREGORIAN
METHOD:PUBLISH
X-WR-CALNAME:Milwaukee Scottish Country Dancers
X-ORIGINAL-URL:https://milwaukeescd.org
X-WR-CALDESC:Events for Milwaukee Scottish Country Dancers
REFRESH-INTERVAL;VALUE=DURATION:PT1H
X-Robots-Tag:noindex
X-PUBLISHED-TTL:PT1H
BEGIN:VTIMEZONE
TZID:America/Chicago
BEGIN:DAYLIGHT
TZOFFSETFROM:-0600
TZOFFSETTO:-0500
TZNAME:CDT
DTSTART:20230312T080000
END:DAYLIGHT
BEGIN:STANDARD
TZOFFSETFROM:-0500
TZOFFSETTO:-0600
TZNAME:CST
DTSTART:20231105T070000
END:STANDARD
BEGIN:DAYLIGHT
TZOFFSETFROM:-0600
TZOFFSETTO:-0500
TZNAME:CDT
DTSTART:20240310T080000
END:DAYLIGHT
BEGIN:STANDARD
TZOFFSETFROM:-0500
TZOFFSETTO:-0600
TZNAME:CST
DTSTART:20241103T070000
END:STANDARD
BEGIN:DAYLIGHT
TZOFFSETFROM:-0600
TZOFFSETTO:-0500
TZNAME:CDT
DTSTART:20250309T080000
END:DAYLIGHT
BEGIN:STANDARD
TZOFFSETFROM:-0500
TZOFFSETTO:-0600
TZNAME:CST
DTSTART:20251102T070000
END:STANDARD
END:VTIMEZONE
BEGIN:VEVENT
DTSTART;TZID=America/Chicago:20241026T090000
DTEND;TZID=America/Chicago:20241026T140000
DTSTAMP:20260421T033133
CREATED:20240827T023159Z
LAST-MODIFIED:20241023T003137Z
UID:395-1729933200-1729951200@milwaukeescd.org
SUMMARY:Halloween Costume Ball
DESCRIPTION:For more than 30 years\, the Milwaukee Scottish Country Dancers have held a dance in the fall\, most often with playful costumes! Join the fun! \nMusic by Rare Privilege: Maria Terres\, Amy McFarland & Dave Mullen \nMkeSCD silent auction info and bidding form \nCostumes admired\, not required. \nRegistration \nSchedule: \n11 a.m. – 12:30 p.m.     Walkthrough\n1:30 p.m.                       Registration/Check-In\n2 p.m.                            Costume Ball\n5 p.m.                            Potluck dinner \n  \nMkeSCD Halloween Costume Ball 2024 Program with dance descriptions \nCrib Sheet for the 15 dances this evening: MkeSCD Halloween Costume Ball 2024  \nLink to SCDDB: MkeSCD Halloween Costume Ball 2024     (Mobile Cribs code:50532)
URL:https://milwaukeescd.org/event/halloween-dance/
LOCATION:Journey’s Lutheran School Gym\, 5425 S 111th St 53130\, Hales Corners\, WI\, 53130\, United States
ATTACH;FMTTYPE=image/jpeg:https://milwaukeescd.org/wp-content/uploads/2024/09/Halloween-2024-scaled.jpg
END:VEVENT
END:VCALENDAR