BEGIN:VCALENDAR
VERSION:2.0
PRODID:-//Milwaukee Scottish Country Dancers - ECPv6.15.18//NONSGML v1.0//EN
CALSCALE:GREGORIAN
METHOD:PUBLISH
X-ORIGINAL-URL:https://milwaukeescd.org
X-WR-CALDESC:Events for Milwaukee Scottish Country Dancers
REFRESH-INTERVAL;VALUE=DURATION:PT1H
X-Robots-Tag:noindex
X-PUBLISHED-TTL:PT1H
BEGIN:VTIMEZONE
TZID:America/Chicago
BEGIN:DAYLIGHT
TZOFFSETFROM:-0600
TZOFFSETTO:-0500
TZNAME:CDT
DTSTART:20250309T080000
END:DAYLIGHT
BEGIN:STANDARD
TZOFFSETFROM:-0500
TZOFFSETTO:-0600
TZNAME:CST
DTSTART:20251102T070000
END:STANDARD
BEGIN:DAYLIGHT
TZOFFSETFROM:-0600
TZOFFSETTO:-0500
TZNAME:CDT
DTSTART:20260308T080000
END:DAYLIGHT
BEGIN:STANDARD
TZOFFSETFROM:-0500
TZOFFSETTO:-0600
TZNAME:CST
DTSTART:20261101T070000
END:STANDARD
BEGIN:DAYLIGHT
TZOFFSETFROM:-0600
TZOFFSETTO:-0500
TZNAME:CDT
DTSTART:20270314T080000
END:DAYLIGHT
BEGIN:STANDARD
TZOFFSETFROM:-0500
TZOFFSETTO:-0600
TZNAME:CST
DTSTART:20271107T070000
END:STANDARD
END:VTIMEZONE
BEGIN:VEVENT
DTSTART;TZID=America/Chicago:20260103T150000
DTEND;TZID=America/Chicago:20260103T180000
DTSTAMP:20260421T040626
CREATED:20251108T171651Z
LAST-MODIFIED:20251108T171651Z
UID:1111-1767452400-1767463200@milwaukeescd.org
SUMMARY:Madison Scottish Country Dancers Winter Dance Party
DESCRIPTION:January 3\, 2026.\n3:00 p.m. with potluck following.  \nMusic by Lochanside. \nProgram: https://my.strathspey.org/dd/list/63470/
URL:https://milwaukeescd.org/event/madison-scottish-country-dancers-winter-dance-party/
LOCATION:WIl-Mar Neighborhood Center\, 504 S. Brearly St.\, Madison\, WI\, 53703\, United States
END:VEVENT
BEGIN:VEVENT
DTSTART;TZID=America/Chicago:20260119T170000
DTEND;TZID=America/Chicago:20260119T220000
DTSTAMP:20260421T040626
CREATED:20260119T213857Z
LAST-MODIFIED:20260119T232459Z
UID:1211-1768842000-1768860000@milwaukeescd.org
SUMMARY:NO CLASS TONIGHT at Journeys due to COLD WEATHER
DESCRIPTION:
URL:https://milwaukeescd.org/event/no-class-tonight-at-journeys-due-to-cold-weather/
LOCATION:Journey’s Lutheran School Gym\, 5425 S 111th St 53130\, Hales Corners\, WI\, 53130\, United States
END:VEVENT
END:VCALENDAR